BEGIN:VCALENDAR
VERSION:2.0
PRODID:-//medite.org - ECPv4.9.8//NONSGML v1.0//EN
CALSCALE:GREGORIAN
METHOD:PUBLISH
X-WR-CALNAME:medite.org
X-ORIGINAL-URL:http://medite.org
X-WR-CALDESC:Évènements pour medite.org
BEGIN:VTIMEZONE
TZID:UTC
BEGIN:STANDARD
TZOFFSETFROM:+0000
TZOFFSETTO:+0000
TZNAME:UTC
DTSTART:20250101T000000
END:STANDARD
END:VTIMEZONE
BEGIN:VEVENT
DTSTART;TZID="UTC":20250127T184500
DTEND;TZID="UTC":20250127T201500
DTSTAMP:20260424T221210
CREATED:20250114T225527Z
LAST-MODIFIED:20250118T210210Z
UID:12892-1738003500-1738008900@medite.org
SUMMARY:Transformer son esprit - Ouvrir son cœur (réunion ZOOM)
DESCRIPTION:Thème de l’enseignement : Transformer son esprit.\nAmour et compassion\, cultiver l’altruisme.\nPrendre conscience de notre mode de fonctionnement habituel pour le transformer dans notre vie.\nPratiquer l’empathie.\nL’échange de soi avec autrui : pratique de « donner et prendre » (tonglen) \n  \nEnseignement\, méditation\, questions – réponses.\nLes questions écrites à l’inscription seront traitées en priorité. \n  \nLes frais de session sont de 20 €.\nInscription au plus tard le 20 janvier. \n S’INSCRIRE A L’ENSEIGNEMENT\nLes informations pour rejoindre la réunion ZOOM vous seront envoyées par mail suite à votre inscription. \n
URL:http://medite.org/enseignement/transformer-son-esprit-ouvrir-son-coeur-reunion-zoom/
LOCATION:ZOOM
CATEGORIES:ZOOM
ATTACH;FMTTYPE=image/png:http://medite.org/wp-content/uploads/2024/01/Chenrezig.png
END:VEVENT
END:VCALENDAR