BEGIN:VCALENDAR
VERSION:2.0
PRODID:-//medite.org - ECPv4.9.8//NONSGML v1.0//EN
CALSCALE:GREGORIAN
METHOD:PUBLISH
X-WR-CALNAME:medite.org
X-ORIGINAL-URL:http://medite.org
X-WR-CALDESC:Évènements pour medite.org
BEGIN:VTIMEZONE
TZID:UTC
BEGIN:STANDARD
TZOFFSETFROM:+0000
TZOFFSETTO:+0000
TZNAME:UTC
DTSTART:20220101T000000
END:STANDARD
END:VTIMEZONE
BEGIN:VEVENT
DTSTART;TZID="UTC":20220609T180000
DTEND;TZID="UTC":20220609T193000
DTSTAMP:20260424T221211
CREATED:20220531T153255Z
LAST-MODIFIED:20220601T072853Z
UID:11646-1654797600-1654803000@medite.org
SUMMARY:Traiter nos émotions sur le chemin de l’éveil (réunion ZOOM)
DESCRIPTION:Thème de l’enseignement : Traiter nos émotions sur le chemin de l’éveil. \nTraiter nos émotions et ressentis comme support de méditation : trouver un espace intérieur.\nDifférentes approches pour développer notre conscience :\nDistinguer les émotions\, les observer\, les transformer\, reconnaître leur nature de sagesse sur le chemin de l’éveil. \nEnseignement\, méditation et questions – réponses \n  \nLes informations pour rejoindre la réunion ZOOM vous seront envoyées suite à votre inscription : \n S’INSCRIRE A LA SESSION\n SOUTENIR L’ENSEIGNEMENT\n  \n
URL:http://medite.org/enseignement/traiter-nos-emotions-sur-le-chemin-de-leveil-reunion-zoom/
LOCATION:ZOOM
CATEGORIES:ZOOM
ATTACH;FMTTYPE=image/jpeg:http://medite.org/wp-content/uploads/2018/05/L-eveil-du-Bouddha.jpg
END:VEVENT
END:VCALENDAR