BEGIN:VCALENDAR
VERSION:2.0
PRODID:-//medite.org - ECPv4.9.8//NONSGML v1.0//EN
CALSCALE:GREGORIAN
METHOD:PUBLISH
X-WR-CALNAME:medite.org
X-ORIGINAL-URL:http://medite.org
X-WR-CALDESC:Évènements pour medite.org
BEGIN:VTIMEZONE
TZID:UTC
BEGIN:STANDARD
TZOFFSETFROM:+0000
TZOFFSETTO:+0000
TZNAME:UTC
DTSTART:20190101T000000
END:STANDARD
END:VTIMEZONE
BEGIN:VEVENT
DTSTART;TZID="UTC":20190815T080000
DTEND;TZID="UTC":20190915T170000
DTSTAMP:20260424T221303
CREATED:20190610T220448Z
LAST-MODIFIED:20190819T200517Z
UID:9134-1565856000-1568566800@medite.org
SUMMARY:Méditation et Retraite d’été - Août & Septembre 2019
DESCRIPTION:\nRetraite individuelle\nMéditation et Retraite d’été \nPour pratiquer et vous ressourcer cet été dans un lieu paisible et inspirant\, nous vous suggérons de faire une retraite individuelle libre à l’Ermitage Nehnang Samten Choling en Dordogne. \n  \nPRÉPARATION DE VOTRE RETRAITE INDIVIDUELLE \nVous pouvez demander conseil au préalable à Lama Detchen. \n  \nRENSEIGNEMENT SUR L’HÉBERGEMENT POUR UNE RETRAITE INDIVIDUELLE\nNehnang Samten Choling\nLes Tranchats\n24580 Plazac \nContacter Jacques : nehnangsamtencholingfrance@gmail.com ou au 09 82 45 43 63. \n\n
URL:http://medite.org/enseignement/meditation-et-retraite-dete-2019-2/
LOCATION:DORDOGNE – Ermitage Nehnang Samten Choling\, Les Tranchats\, PLAZAC\, 24580\, France
CATEGORIES:Degré 1 : Présence à soi et présence à l’autre,Degré 2 : Réaliser notre potentiel,Dordogne
ATTACH;FMTTYPE=image/jpeg:http://medite.org/wp-content/uploads/2019/08/Nehnang-Samten-Choling-Juillet-2019.jpg
END:VEVENT
END:VCALENDAR