BEGIN:VCALENDAR
VERSION:2.0
PRODID:-//medite.org - ECPv4.9.8//NONSGML v1.0//EN
CALSCALE:GREGORIAN
METHOD:PUBLISH
X-WR-CALNAME:medite.org
X-ORIGINAL-URL:http://medite.org
X-WR-CALDESC:Évènements pour medite.org
BEGIN:VTIMEZONE
TZID:UTC
BEGIN:STANDARD
TZOFFSETFROM:+0000
TZOFFSETTO:+0000
TZNAME:UTC
DTSTART:20210101T000000
END:STANDARD
END:VTIMEZONE
BEGIN:VEVENT
DTSTART;TZID="UTC":20210401T180000
DTEND;TZID="UTC":20210401T193000
DTSTAMP:20260424T205237
CREATED:20210312T105404Z
LAST-MODIFIED:20210312T105940Z
UID:10925-1617300000-1617305400@medite.org
SUMMARY:Méditation et Calme mental (réunion ZOOM)
DESCRIPTION:Thème de l’enseignement : Comment méditer pour pacifier son esprit; dans quelles perspectives ? \nQuelles sont les conditions extérieures et intérieures pour développer le calme mental ? Postures\, exercices progressifs\, principaux obstacles et remèdes selon la méthode graduelle du Mahamoudra. Le calme mental («samatha» en sanskrit ou «shiné» en tibétain) est nécessaire à toutes les autres formes de méditation. \nEnseignement\, méditation et questions – réponses \n  \nLes informations pour rejoindre la réunion ZOOM vous seront envoyées suite à votre inscription : \n S’INSCRIRE A LA SESSION\n SOUTENIR L’ENSEIGNEMENT\n  \n
URL:http://medite.org/enseignement/meditation-et-calme-mental-reunion-zoom/
LOCATION:ZOOM
CATEGORIES:ZOOM
ATTACH;FMTTYPE=image/jpeg:http://medite.org/wp-content/uploads/2019/08/Plage-mer-Juillet-2019.jpg
END:VEVENT
END:VCALENDAR