BEGIN:VCALENDAR
VERSION:2.0
PRODID:-//medite.org - ECPv4.9.8//NONSGML v1.0//EN
CALSCALE:GREGORIAN
METHOD:PUBLISH
X-WR-CALNAME:medite.org
X-ORIGINAL-URL:http://medite.org
X-WR-CALDESC:Évènements pour medite.org
BEGIN:VTIMEZONE
TZID:UTC
BEGIN:STANDARD
TZOFFSETFROM:+0000
TZOFFSETTO:+0000
TZNAME:UTC
DTSTART:20220101T000000
END:STANDARD
END:VTIMEZONE
BEGIN:VEVENT
DTSTART;TZID="UTC":20220216T180000
DTEND;TZID="UTC":20220216T193000
DTSTAMP:20260424T221212
CREATED:20220207T161259Z
LAST-MODIFIED:20220207T220803Z
UID:11404-1645034400-1645039800@medite.org
SUMMARY:Dharma et vie quotidienne (réunion ZOOM)
DESCRIPTION:Thème de l’enseignement : Dharma et vie quotidienne : comment intégrer la pratique à la vie de tous les jours. \nEntraînement de l’esprit – Lodjong.\nCultiver l’esprit d’éveil. Bodhicitta relative et ultime.\nTransformer toutes les conditions adverses en voie vers l’éveil.\nPratiquer le « Prendre et Donner » – Tonglen. \nEnseignement\, méditation\, échanges Questions/Réponses. \nInscription jusqu’au dimanche 13 février. \n  \nLes informations pour rejoindre la réunion ZOOM vous seront envoyées suite à votre inscription : \n S’INSCRIRE A LA SESSION\n SOUTENIR L’ENSEIGNEMENT\n  \n
URL:http://medite.org/enseignement/dharma-et-vie-quotidienne-reunion-zoom/
LOCATION:ZOOM
CATEGORIES:ZOOM
ATTACH;FMTTYPE=image/jpeg:http://medite.org/wp-content/uploads/2022/02/Noeud-infini-tibetain.jpg
END:VEVENT
END:VCALENDAR