BEGIN:VCALENDAR
VERSION:2.0
PRODID:-//medite.org - ECPv4.9.8//NONSGML v1.0//EN
CALSCALE:GREGORIAN
METHOD:PUBLISH
X-WR-CALNAME:medite.org
X-ORIGINAL-URL:http://medite.org
X-WR-CALDESC:Évènements pour medite.org
BEGIN:VTIMEZONE
TZID:UTC
BEGIN:STANDARD
TZOFFSETFROM:+0000
TZOFFSETTO:+0000
TZNAME:UTC
DTSTART:20220101T000000
END:STANDARD
END:VTIMEZONE
BEGIN:VEVENT
DTSTART;TZID="UTC":20221220T180000
DTEND;TZID="UTC":20221220T193000
DTSTAMP:20260424T221212
CREATED:20221212T221750Z
LAST-MODIFIED:20221213T211136Z
UID:11978-1671559200-1671564600@medite.org
SUMMARY:Amour et compassion dans notre vie (réunion ZOOM)
DESCRIPTION:Thème de l’enseignement : Amour et compassion dans notre vie. \nCultiver amour\, compassion avec joie et équanimité.\nPratique de l’entraînement de l’esprit – Lodjong.\nTransformer notre esprit.\nMaintenir la pratique dans la vie quotidienne. \nLodjong (l’entraînement à l’esprit d’éveil) consiste à transformer notre esprit (notre psychisme)\, à le faire passer d’une focalisation sur soi-même à une ouverture aux autres. Le don et la prise en charge (tonglen) constituent une des méthodes essentielles qui permettent de s’exercer à la transformation de l’esprit. \nTonglen (littéralement donner et prendre) est une pratique méditative qui consiste à donner aux autres nos mérites et nos qualités et à prendre sur nous leur souffrance. Cette pratique constitue plus spécifiquement l’entraînement de l’esprit à la bodhicitta relative. \nEnseignement\, méditation et questions – réponses. \n  \nLes informations pour rejoindre la réunion ZOOM vous seront envoyées suite à votre inscription : \n S’INSCRIRE A LA SESSION\n SOUTENIR L’ENSEIGNEMENT\n  \n
URL:http://medite.org/enseignement/amour-et-compassion-dans-notre-vie-reunion-zoom/
LOCATION:ZOOM
CATEGORIES:ZOOM
ATTACH;FMTTYPE=image/jpeg:http://medite.org/wp-content/uploads/2016/12/Noel.jpg
END:VEVENT
END:VCALENDAR